BEGIN:VCALENDAR
VERSION:2.0
PRODID:-//Echoing Green - ECPv4.9.1.1//NONSGML v1.0//EN
CALSCALE:GREGORIAN
METHOD:PUBLISH
X-WR-CALNAME:Echoing Green
X-ORIGINAL-URL:https://echoinggreen.impacthub.net
X-WR-CALDESC:Events for Echoing Green
BEGIN:VEVENT
DTSTART;TZID=UTC+0:20171029T080000
DTEND;TZID=UTC+0:20171029T170000
DTSTAMP:20210418T185900
CREATED:20171128T120712Z
LAST-MODIFIED:20171128T120738Z
UID:1099-1509264000-1509296400@echoinggreen.impacthub.net
SUMMARY:Community Lunch
DESCRIPTION:Stop eating at your desk. Contributing a different ingredient and coming together to cook a meal\, our weekly community lunch has become legendary. Like dinner with your family- but with less arguments and more brilliant ideas having sex. \n
URL:https://echoinggreen.impacthub.net/event/community-lunch/
ATTACH;FMTTYPE=image/png:https://echoinggreen.impacthub.net/wp-content/uploads/2017/11/Community-Lunch-Website.png
END:VEVENT
END:VCALENDAR