BEGIN:VCALENDAR
VERSION:2.0
PRODID:-//Echoing Green - ECPv4.9.1.1//NONSGML v1.0//EN
CALSCALE:GREGORIAN
METHOD:PUBLISH
X-WR-CALNAME:Echoing Green
X-ORIGINAL-URL:https://echoinggreen.impacthub.net
X-WR-CALDESC:Events for Echoing Green
BEGIN:VEVENT
DTSTART;TZID=UTC+0:20171123T080000
DTEND;TZID=UTC+0:20171123T170000
DTSTAMP:20210418T185836
CREATED:20171123T093443Z
LAST-MODIFIED:20171123T152403Z
UID:754-1511424000-1511456400@echoinggreen.impacthub.net
SUMMARY:Test
DESCRIPTION:qweqrqqwt \n
URL:https://echoinggreen.impacthub.net/event/test/
ATTACH;FMTTYPE=image/png:https://echoinggreen.impacthub.net/wp-content/uploads/2017/10/gallery.png
END:VEVENT
END:VCALENDAR