BEGIN:VCALENDAR
VERSION:2.0
PRODID:-//Echoing Green - ECPv4.9.1.1//NONSGML v1.0//EN
CALSCALE:GREGORIAN
METHOD:PUBLISH
X-WR-CALNAME:Echoing Green
X-ORIGINAL-URL:https://echoinggreen.impacthub.net
X-WR-CALDESC:Events for Echoing Green
BEGIN:VEVENT
DTSTART;TZID=UTC+0:20200525T170000
DTEND;TZID=UTC+0:20200525T170000
DTSTAMP:20210418T184648
CREATED:20171128T132836Z
LAST-MODIFIED:20171128T132836Z
UID:2607-1590426000-1590426000@echoinggreen.impacthub.net
SUMMARY:Friday Winedown
DESCRIPTION:Forgetting to celebrate your efforts is like forgetting to put ice cubes in your gin and tonic. Coming together to share how our week went\, we end it well- with some good stories over a drink. \n
URL:https://echoinggreen.impacthub.net/event/friday-winedown/2020-05-25/
END:VEVENT
END:VCALENDAR